BEGIN:VCALENDAR
VERSION:2.0
PRODID:-//Digital Life Institute - ECPv6.15.17.1//NONSGML v1.0//EN
CALSCALE:GREGORIAN
METHOD:PUBLISH
X-WR-CALNAME:Digital Life Institute
X-ORIGINAL-URL:https://www.digitallife.org
X-WR-CALDESC:Events for Digital Life Institute
REFRESH-INTERVAL;VALUE=DURATION:PT1H
X-Robots-Tag:noindex
X-PUBLISHED-TTL:PT1H
BEGIN:VTIMEZONE
TZID:America/Halifax
BEGIN:DAYLIGHT
TZOFFSETFROM:-0400
TZOFFSETTO:-0300
TZNAME:ADT
DTSTART:20250309T060000
END:DAYLIGHT
BEGIN:STANDARD
TZOFFSETFROM:-0300
TZOFFSETTO:-0400
TZNAME:AST
DTSTART:20251102T050000
END:STANDARD
BEGIN:DAYLIGHT
TZOFFSETFROM:-0400
TZOFFSETTO:-0300
TZNAME:ADT
DTSTART:20260308T060000
END:DAYLIGHT
BEGIN:STANDARD
TZOFFSETFROM:-0300
TZOFFSETTO:-0400
TZNAME:AST
DTSTART:20261101T050000
END:STANDARD
BEGIN:DAYLIGHT
TZOFFSETFROM:-0400
TZOFFSETTO:-0300
TZNAME:ADT
DTSTART:20270314T060000
END:DAYLIGHT
BEGIN:STANDARD
TZOFFSETFROM:-0300
TZOFFSETTO:-0400
TZNAME:AST
DTSTART:20271107T050000
END:STANDARD
END:VTIMEZONE
BEGIN:VEVENT
DTSTART;TZID=America/Halifax:20260506T080000
DTEND;TZID=America/Halifax:20260508T170000
DTSTAMP:20260422T172405
CREATED:20260422T180633Z
LAST-MODIFIED:20260422T180633Z
UID:1316-1778054400-1778259600@www.digitallife.org
SUMMARY:Networked Learning Conference 2026
DESCRIPTION:We invite submissions that engage critically and creatively with the field of networked learning and address one or more of the following conference themes: \n• Equity\, inclusion\, and digital transformation in networked learning (e.g.\, accessibility\, digital divide\, inclusive technologies\, equitable access to learning resources\, transformative digital practices\, teaching across borders) \n• Policy and AI in networked learning (e.g.\, AI governance\, policy frameworks for AI in education\, ethical AI implementation\, regulatory considerations\, AI-driven educational reforms) \n• Future of teaching and value-based AI supported networked learning (e.g.\, innovative pedagogies\, Human-centered AI\, values-driven AI applications\, ethical AI integration in education) \n• Ethical and responsible innovation and research (e.g.\, privacy\, surveillance\, inclusion\, criticality\, equity and social justice\, relational pedagogies\, eco pedagogies) \n• Spaces\, places and modalities for networked learning (e.g.\, online\, blended\, hybrid\, boundless)\, design\, implementation and evaluation of networked learning \n• Networked learning in formal\, non-formal and informal contexts of learning and development across the lifespan (e.g.\, early childhood\, school\, higher education\, professional development\, community learning\, large-scale and small-scale open courses) \n• Theory and theorisation advancing the field of networked learning \n• Philosophies\, theories\, methodologies\, and research designs for networked learning (e.g.\, postdigitality\, posthumanism\, phenomenography\, phenomenology\, social network analysis\, socio-material approaches) \nThe Fifteenth International Conference on Networked Learning (NLC2026) will take place from 6 to 8 May 2026. The conference will take place in Brussels\, Belgium and will be hosted by FARI – AI for the Common Good Institute and d-teach – Online School and Training Centre.
URL:https://www.digitallife.org/event/networked-learning-conference-2026/
ATTACH;FMTTYPE=image/webp:https://www.digitallife.org/wp-content/uploads/2026/04/NetworkedLearning2026.webp
END:VEVENT
END:VCALENDAR