BEGIN:VCALENDAR
VERSION:2.0
PRODID:-//Digital Life Institute - ECPv6.15.17.1//NONSGML v1.0//EN
CALSCALE:GREGORIAN
METHOD:PUBLISH
X-ORIGINAL-URL:https://www.digitallife.org
X-WR-CALDESC:Events for Digital Life Institute
REFRESH-INTERVAL;VALUE=DURATION:PT1H
X-Robots-Tag:noindex
X-PUBLISHED-TTL:PT1H
BEGIN:VTIMEZONE
TZID:America/Toronto
BEGIN:DAYLIGHT
TZOFFSETFROM:-0500
TZOFFSETTO:-0400
TZNAME:EDT
DTSTART:20230312T070000
END:DAYLIGHT
BEGIN:STANDARD
TZOFFSETFROM:-0400
TZOFFSETTO:-0500
TZNAME:EST
DTSTART:20231105T060000
END:STANDARD
BEGIN:DAYLIGHT
TZOFFSETFROM:-0500
TZOFFSETTO:-0400
TZNAME:EDT
DTSTART:20240310T070000
END:DAYLIGHT
BEGIN:STANDARD
TZOFFSETFROM:-0400
TZOFFSETTO:-0500
TZNAME:EST
DTSTART:20241103T060000
END:STANDARD
BEGIN:DAYLIGHT
TZOFFSETFROM:-0500
TZOFFSETTO:-0400
TZNAME:EDT
DTSTART:20250309T070000
END:DAYLIGHT
BEGIN:STANDARD
TZOFFSETFROM:-0400
TZOFFSETTO:-0500
TZNAME:EST
DTSTART:20251102T060000
END:STANDARD
BEGIN:DAYLIGHT
TZOFFSETFROM:-0500
TZOFFSETTO:-0400
TZNAME:EDT
DTSTART:20260308T070000
END:DAYLIGHT
BEGIN:STANDARD
TZOFFSETFROM:-0400
TZOFFSETTO:-0500
TZNAME:EST
DTSTART:20261101T060000
END:STANDARD
END:VTIMEZONE
BEGIN:VTIMEZONE
TZID:America/Vancouver
BEGIN:DAYLIGHT
TZOFFSETFROM:-0800
TZOFFSETTO:-0700
TZNAME:PDT
DTSTART:20240310T100000
END:DAYLIGHT
BEGIN:STANDARD
TZOFFSETFROM:-0700
TZOFFSETTO:-0800
TZNAME:PST
DTSTART:20241103T090000
END:STANDARD
BEGIN:DAYLIGHT
TZOFFSETFROM:-0800
TZOFFSETTO:-0700
TZNAME:PDT
DTSTART:20250309T100000
END:DAYLIGHT
BEGIN:STANDARD
TZOFFSETFROM:-0700
TZOFFSETTO:-0800
TZNAME:PST
DTSTART:20251102T090000
END:STANDARD
BEGIN:DAYLIGHT
TZOFFSETFROM:-0800
TZOFFSETTO:-0700
TZNAME:PDT
DTSTART:20260308T100000
END:DAYLIGHT
BEGIN:STANDARD
TZOFFSETFROM:-0700
TZOFFSETTO:-0800
TZNAME:PST
DTSTART:20261101T090000
END:STANDARD
END:VTIMEZONE
BEGIN:VTIMEZONE
TZID:America/New_York
BEGIN:DAYLIGHT
TZOFFSETFROM:-0500
TZOFFSETTO:-0400
TZNAME:EDT
DTSTART:20240310T070000
END:DAYLIGHT
BEGIN:STANDARD
TZOFFSETFROM:-0400
TZOFFSETTO:-0500
TZNAME:EST
DTSTART:20241103T060000
END:STANDARD
BEGIN:DAYLIGHT
TZOFFSETFROM:-0500
TZOFFSETTO:-0400
TZNAME:EDT
DTSTART:20250309T070000
END:DAYLIGHT
BEGIN:STANDARD
TZOFFSETFROM:-0400
TZOFFSETTO:-0500
TZNAME:EST
DTSTART:20251102T060000
END:STANDARD
BEGIN:DAYLIGHT
TZOFFSETFROM:-0500
TZOFFSETTO:-0400
TZNAME:EDT
DTSTART:20260308T070000
END:DAYLIGHT
BEGIN:STANDARD
TZOFFSETFROM:-0400
TZOFFSETTO:-0500
TZNAME:EST
DTSTART:20261101T060000
END:STANDARD
END:VTIMEZONE
BEGIN:VTIMEZONE
TZID:America/Halifax
BEGIN:DAYLIGHT
TZOFFSETFROM:-0400
TZOFFSETTO:-0300
TZNAME:ADT
DTSTART:20240310T060000
END:DAYLIGHT
BEGIN:STANDARD
TZOFFSETFROM:-0300
TZOFFSETTO:-0400
TZNAME:AST
DTSTART:20241103T050000
END:STANDARD
BEGIN:DAYLIGHT
TZOFFSETFROM:-0400
TZOFFSETTO:-0300
TZNAME:ADT
DTSTART:20250309T060000
END:DAYLIGHT
BEGIN:STANDARD
TZOFFSETFROM:-0300
TZOFFSETTO:-0400
TZNAME:AST
DTSTART:20251102T050000
END:STANDARD
BEGIN:DAYLIGHT
TZOFFSETFROM:-0400
TZOFFSETTO:-0300
TZNAME:ADT
DTSTART:20260308T060000
END:DAYLIGHT
BEGIN:STANDARD
TZOFFSETFROM:-0300
TZOFFSETTO:-0400
TZNAME:AST
DTSTART:20261101T050000
END:STANDARD
END:VTIMEZONE
BEGIN:VEVENT
DTSTART;TZID=America/Toronto:20241202T110000
DTEND;TZID=America/Toronto:20241202T170000
DTSTAMP:20260421T092623
CREATED:20241112T121016Z
LAST-MODIFIED:20241112T121225Z
UID:1120-1733137200-1733158800@www.digitallife.org
SUMMARY:Create Me\, Break Me\, Remember Me: Art and AI in an Age of Reinvention
DESCRIPTION:Isabel Pedersen will present the Fourth Annual Stéfan Sinclair Lecture @ Concordia. She focuses on embodied computing\, algorithmic culture\, augmented reality\, emergent media\, and AI ethics. Her talk will be followed by a round-table chaired by Geoffrey Rockwell with three graduate students. \nThe live event will take place at Milieux Resource Room EV 11.705\, Concordia University\, 1515 St. Catherine’s Street W.\, Montréal. The event will also be streamed (click More Information for advance registration). \n 
URL:https://www.digitallife.org/event/create-me-break-me-remember-me-art-and-ai-in-an-age-of-reinvention/
ATTACH;FMTTYPE=image/png:https://www.digitallife.org/wp-content/uploads/2024/11/CRIHN.png
END:VEVENT
BEGIN:VEVENT
DTSTART;TZID=America/Vancouver:20250307T150000
DTEND;TZID=America/Vancouver:20250307T163000
DTSTAMP:20260421T092623
CREATED:20250215T122151Z
LAST-MODIFIED:20250215T122151Z
UID:1161-1741359600-1741365000@www.digitallife.org
SUMMARY:"I Get You": Empathy\, Rhetoric\, & the Design of AI Assistants
DESCRIPTION:Isabel Pedersen presents: The goal to achieve novel AI systems has been ignited by an urgent commercial preoccupation with making emotionally engaged\, empathetic AI assistants. The promise of empathy offers the alluring condition of being known by another\, when someone simply “gets you.” Inventors work to embed the appearance of emotional signs in functional AI applications through meaning-making systems that mimic interpersonal communication. However\, how do we come to terms with the ethical conundrum of artificial empathy? Is anthropomorphized AI leading to deceptive\, destructive systems or the possibility of beneficial\, creative\, dialogic exchanges with artificial agents? \n 
URL:https://www.digitallife.org/event/i-get-you-empathy-rhetoric-the-design-of-ai-assistants/
ATTACH;FMTTYPE=image/jpeg:https://www.digitallife.org/wp-content/uploads/2025/02/IGetYou.jpeg
END:VEVENT
BEGIN:VEVENT
DTSTART;TZID=America/Toronto:20250602T080000
DTEND;TZID=America/Toronto:20250605T170000
DTSTAMP:20260421T092623
CREATED:20250416T203703Z
LAST-MODIFIED:20250426T213150Z
UID:1196-1748851200-1749142800@www.digitallife.org
SUMMARY:“Decoding the brain’s own language”: Brain implants\, neurorights\, and the corporate race to decode thought
DESCRIPTION:Isabel Pedersen will present at the annual conference of the Canadian Communication Association. \nPrecision Neuroscience\, Synchron\, Neuralink\, and Paradromics are racing to develop brain implants for many applications including therapeutic use\, cognitive enhancement\, and for general\, ‘everyday’ communication. The Paradromics website\, for example\, claims “we will continue to expand the capabilities of our massively scalable platform to support a pipeline of future applications that could benefit millions”. Precision Neuroscience celebrates the concept of “decoding the brain’s own language” (Vimeo\, 2024). Elon Musk’s Neuralink has been approved for clinical trials in Canada (Reuters\, 2024). \nThis presentation questions and explores how ‘neurorights’ can be established as these technologies evolve at an unprecedented pace and offer advancements due to the decoding of neurodata.
URL:https://www.digitallife.org/event/decoding-the-brains-own-language-brain-implants-neurorights-and-the-corporate-race-to-decode-thought/
ATTACH;FMTTYPE=image/png:https://www.digitallife.org/wp-content/uploads/2025/04/acc-cca-logos-white-tag21.png
END:VEVENT
BEGIN:VEVENT
DTSTART;TZID=America/Toronto:20250609T090000
DTEND;TZID=America/Toronto:20250613T163000
DTSTAMP:20260421T092623
CREATED:20250415T194810Z
LAST-MODIFIED:20250426T213022Z
UID:1191-1749459600-1749832200@www.digitallife.org
SUMMARY:2025 Teaching With AI Conference
DESCRIPTION:Dr. Lesley Wilton is the keynote speaker at the 2025 Teaching With AI Conference. \nRapidly evolving as a general-purpose technology\, AI is increasingly enmeshed in formal and informal learning environments. Meaningfully integrating AI into teaching and learning requires understandings of what AI is\, what it does and what pedagogies (including AI pedagogies) best benefit learners. Troubling our thinking is: what are we teaching? and how?—and what is the role of AI? We are guided by societal and educational frameworks. Educators have a wide range of technical backgrounds–from little technical understanding to AI experts. In context\, technology transience highlights the importance of AI Literacy. Evolving frameworks\, such as UNESCOs\, are important in navigating both our understandings of teaching with AI and of how learners use AI for learning. AI systems are complex\, so the promise of agreed-upon descriptive structures (e.g. consistent model-card type information for each AI tool) may help educators better understand what an AI system actually does and identify its educational value. Responsible use of AI requires us to think critically and to consider the inherent risks of safety\, privacy\, data collection\, bias\, explainability and more. This keynote will guide staying the course toward learning as we navigate the uncharted waters of the WHAT and WHY of AI in education. \nClick here to view the program.
URL:https://www.digitallife.org/event/2025-teaching-with-ai-conference/
ATTACH;FMTTYPE=image/png:https://www.digitallife.org/wp-content/uploads/2025/04/Teaching-with-AI-Conference_2025-logo.png
END:VEVENT
BEGIN:VEVENT
DTSTART;VALUE=DATE:20251023
DTEND;VALUE=DATE:20251025
DTSTAMP:20260421T092623
CREATED:20251005T182836Z
LAST-MODIFIED:20251005T183000Z
UID:1226-1761177600-1761350399@www.digitallife.org
SUMMARY:CPTSC 2025 Annual Conference + SIGDOC 2025
DESCRIPTION:Jessica Campbell\, Katlynne Davis\, Jialei Jiang (online)\, Nupoor Ranade (online)\, Mollie Stambler\, Jason Tham\, and Gustav Verhulsdonck are all presenting at the CPTSC 2025 Annual Conference + SIGDOC 2025\, October 23–25\, Texas Tech University in Lubbock\, Texas.
URL:https://www.digitallife.org/event/cptsc-2025-annual-conference-sigdoc-2025/
ATTACH;FMTTYPE=image/jpeg:https://www.digitallife.org/wp-content/uploads/2021/12/cptsc-logo-jpeg-e1517530089926.jpg
END:VEVENT
BEGIN:VEVENT
DTSTART;TZID=America/Toronto:20251030T130000
DTEND;TZID=America/Toronto:20251030T143000
DTSTAMP:20260421T092623
CREATED:20251022T100355Z
LAST-MODIFIED:20251022T164421Z
UID:1232-1761829200-1761834600@www.digitallife.org
SUMMARY:Navigating AIED in Context
DESCRIPTION:Please join us for this speaking event featuring top AI in Education (AIED) researchers! \nProgram: \nWelcome & Introductions – Lesley Wilton\, OISE\, University of Toronto \, Chair\, AIED Cluster \nApplications of AI: A Taxonomy\, Stephen Downes\, Senior Research Officer Digital Technologies\, National Research Council Canada \nExploring Vibe Coding Practices in Computer Science Education\, Rutwa Engineer\, University of Toronto \nMultilingual data collection\, Annie En-Shiun Lee\, Ontario Tech University \nFlying the plane while it’s under construction – AI Literacy\, Lesley Wilton \nModerator: Isabel Pedersen\, Ontario Tech University \nZoom: https://us06web.zoom.us/j/7203067407
URL:https://www.digitallife.org/event/navigating-aied-in-context/
END:VEVENT
BEGIN:VEVENT
DTSTART;TZID=America/Halifax:20251031T140000
DTEND;TZID=America/Halifax:20251031T150000
DTSTAMP:20260421T092623
CREATED:20251024T123754Z
LAST-MODIFIED:20251024T123754Z
UID:1237-1761919200-1761922800@www.digitallife.org
SUMMARY:What is Digital Literacy Today & Why Does It Matter?
DESCRIPTION:Speakers: \nKatlynne Davis\, Assistant Professor in Professional Writing in the College of Arts and Sciences\, University of St. Thomas \nJason Tham\, Associate Professor of Technical Communication and Rhetoric in the Department of English at Texas Tech University \nGustav Verhulsdonck\, Assistant Professor in Business Information Systems\, Central Michigan University. \nJialei Jiang\, Assistant Professor of Writing in the Department of English\, University of Pittsburgh \nDaniel L. Hocutt\, School of Professional & Continuing Studies\, University of Richmond \nModerator: \nIsabel Pedersen\, Ontario Tech University \nOpen to everyone. \nZoom: https://us06web.zoom.us/j/7203067407
URL:https://www.digitallife.org/event/what-is-digital-literacy-today-why-does-it-matter/
END:VEVENT
END:VCALENDAR