BEGIN:VCALENDAR
VERSION:2.0
PRODID:-//Digital Life Institute - ECPv6.15.17.1//NONSGML v1.0//EN
CALSCALE:GREGORIAN
METHOD:PUBLISH
X-ORIGINAL-URL:https://www.digitallife.org
X-WR-CALDESC:Events for Digital Life Institute
REFRESH-INTERVAL;VALUE=DURATION:PT1H
X-Robots-Tag:noindex
X-PUBLISHED-TTL:PT1H
BEGIN:VTIMEZONE
TZID:America/Halifax
BEGIN:DAYLIGHT
TZOFFSETFROM:-0400
TZOFFSETTO:-0300
TZNAME:ADT
DTSTART:20230312T060000
END:DAYLIGHT
BEGIN:STANDARD
TZOFFSETFROM:-0300
TZOFFSETTO:-0400
TZNAME:AST
DTSTART:20231105T050000
END:STANDARD
BEGIN:DAYLIGHT
TZOFFSETFROM:-0400
TZOFFSETTO:-0300
TZNAME:ADT
DTSTART:20240310T060000
END:DAYLIGHT
BEGIN:STANDARD
TZOFFSETFROM:-0300
TZOFFSETTO:-0400
TZNAME:AST
DTSTART:20241103T050000
END:STANDARD
BEGIN:DAYLIGHT
TZOFFSETFROM:-0400
TZOFFSETTO:-0300
TZNAME:ADT
DTSTART:20250309T060000
END:DAYLIGHT
BEGIN:STANDARD
TZOFFSETFROM:-0300
TZOFFSETTO:-0400
TZNAME:AST
DTSTART:20251102T050000
END:STANDARD
END:VTIMEZONE
BEGIN:VEVENT
DTSTART;TZID=America/Halifax:20241020T080000
DTEND;TZID=America/Halifax:20241021T170000
DTSTAMP:20260421T113805
CREATED:20241224T174154Z
LAST-MODIFIED:20241224T174154Z
UID:1140-1729411200-1729530000@www.digitallife.org
SUMMARY:Traversing Paradigm Shifts: A Collaborative Autoethnography of Teaching with Generative AI
DESCRIPTION:Katlynne Davis\, Stephen Fonash\, Mollie Stambler\, Jessica Campbell\, Gustav Verhulsdonck\, Lesley Wilton\, and Jason Tham spoke at the SIGDOC 2024 conference in Washington\, DC.
URL:https://www.digitallife.org/event/traversing-paradigm-shifts-a-collaborative-autoethnography-of-teaching-with-generative-ai/
ATTACH;FMTTYPE=image/png:https://www.digitallife.org/wp-content/uploads/2024/12/Emerging-Technologies.png
END:VEVENT
BEGIN:VEVENT
DTSTART;TZID=America/Halifax:20241030T080000
DTEND;TZID=America/Halifax:20241031T170000
DTSTAMP:20260421T113805
CREATED:20240914T091343Z
LAST-MODIFIED:20240914T091343Z
UID:1090-1730275200-1730394000@www.digitallife.org
SUMMARY:Technology and Trafficking: Risks and Prevention in the Digital Age
DESCRIPTION:Isabel Pedersen\, Delon Omrow\, Shawna Longboat (Hamilton Regional Indian Centre)\, and Julius Kaka (The Global Initiative Network) will be presenting at the 24 hour Conference on Global Organized Crime 2024 (OC24).
URL:https://www.digitallife.org/event/technology-and-trafficking-risks-and-prevention-in-the-digital-age/
ATTACH;FMTTYPE=image/png:https://www.digitallife.org/wp-content/uploads/2024/09/24OC.png
END:VEVENT
END:VCALENDAR