BEGIN:VCALENDAR
VERSION:2.0
PRODID:-//Digital Life Institute - ECPv6.15.17.1//NONSGML v1.0//EN
CALSCALE:GREGORIAN
METHOD:PUBLISH
X-ORIGINAL-URL:https://www.digitallife.org
X-WR-CALDESC:Events for Digital Life Institute
REFRESH-INTERVAL;VALUE=DURATION:PT1H
X-Robots-Tag:noindex
X-PUBLISHED-TTL:PT1H
BEGIN:VTIMEZONE
TZID:America/Halifax
BEGIN:DAYLIGHT
TZOFFSETFROM:-0400
TZOFFSETTO:-0300
TZNAME:ADT
DTSTART:20230312T060000
END:DAYLIGHT
BEGIN:STANDARD
TZOFFSETFROM:-0300
TZOFFSETTO:-0400
TZNAME:AST
DTSTART:20231105T050000
END:STANDARD
BEGIN:DAYLIGHT
TZOFFSETFROM:-0400
TZOFFSETTO:-0300
TZNAME:ADT
DTSTART:20240310T060000
END:DAYLIGHT
BEGIN:STANDARD
TZOFFSETFROM:-0300
TZOFFSETTO:-0400
TZNAME:AST
DTSTART:20241103T050000
END:STANDARD
BEGIN:DAYLIGHT
TZOFFSETFROM:-0400
TZOFFSETTO:-0300
TZNAME:ADT
DTSTART:20250309T060000
END:DAYLIGHT
BEGIN:STANDARD
TZOFFSETFROM:-0300
TZOFFSETTO:-0400
TZNAME:AST
DTSTART:20251102T050000
END:STANDARD
END:VTIMEZONE
BEGIN:VEVENT
DTSTART;TZID=America/Halifax:20241107T160000
DTEND;TZID=America/Halifax:20241108T170000
DTSTAMP:20260421T094417
CREATED:20240826T135831Z
LAST-MODIFIED:20240826T135831Z
UID:1067-1730995200-1731085200@www.digitallife.org
SUMMARY:Responsible use of AI in the independent education space
DESCRIPTION:Lesley Wilton presents at the Annual Independent School Summit 2024 in Toronto.
URL:https://www.digitallife.org/event/responsible-use-of-ai-in-the-independent-education-space/
LOCATION:Centennial College Event Centre\, 937 Progress Ave\, Toronto\, Ontario\, M1G 3T8\, Canada
ATTACH;FMTTYPE=image/png:https://www.digitallife.org/wp-content/uploads/2024/08/OnFedIndSchools.png
END:VEVENT
END:VCALENDAR